BEGIN:VCALENDAR
VERSION:2.0
PRODID:-//Praxis für Mediale Heilung - ECPv6.3.3.1//NONSGML v1.0//EN
CALSCALE:GREGORIAN
METHOD:PUBLISH
X-WR-CALNAME:Praxis für Mediale Heilung
X-ORIGINAL-URL:https://www.praxis-mediale-heilung.de
X-WR-CALDESC:Veranstaltungen für Praxis für Mediale Heilung
REFRESH-INTERVAL;VALUE=DURATION:PT1H
X-Robots-Tag:noindex
X-PUBLISHED-TTL:PT1H
BEGIN:VTIMEZONE
TZID:Europe/Berlin
BEGIN:DAYLIGHT
TZOFFSETFROM:+0100
TZOFFSETTO:+0200
TZNAME:CEST
DTSTART:20260329T010000
END:DAYLIGHT
BEGIN:STANDARD
TZOFFSETFROM:+0200
TZOFFSETTO:+0100
TZNAME:CET
DTSTART:20261025T010000
END:STANDARD
END:VTIMEZONE
BEGIN:VEVENT
DTSTART;TZID=Europe/Berlin:20260509T093000
DTEND;TZID=Europe/Berlin:20260509T110000
DTSTAMP:20260420T135931
CREATED:20260415T125543Z
LAST-MODIFIED:20260415T125543Z
UID:1287-1778319000-1778324400@www.praxis-mediale-heilung.de
SUMMARY:Jin Shin Jyutsu Strömgruppe im Mai – Tiefenentspannung & neue Energie erleben
DESCRIPTION:Sanfte Berührung\, die bewegt – Gemeinsam Jin Shin Jyutsu erleben und zur inneren Balance finden\nGönn dir eine wohltuende Auszeit vom Alltag und entdecke die sanfte Kraft des Jin Shin Jyutsu – auch bekannt als „Heilströmen“. In unserer liebevoll begleiteten Strömgruppe hast du die Möglichkeit\, tief zu entspannen\, neue Energie zu tanken und deinen inneren Energiefluss harmonisch zu stärken. \nIn einer kleinen\, geschützten Gruppe erlebst du die heilsame Wirkung achtsamer Berührung: Durch das sanfte Auflegen der Hände auf bestimmte Körperstellen – die sogenannten Sicherheits-Energieschlösser – kann sich dein Energiesystem neu ausbalancieren. \nDas erwartet dich: \n\nGeführtes\, gegenseitiges Strömen in entspannter Atmosphäre\nTiefe Entspannung und Regeneration für Körper & Geist\nPraktisches Kennenlernen der Energieschlösser\nSpüren von Puls\, Energie und innerer Ruhe\nRaum für persönliche Fragen und Austausch\n\nGanz gleich\, ob du bereits Erfahrung hast oder Jin Shin Jyutsu zum ersten Mal ausprobierst – du bist herzlich willkommen! Jede Einheit ist in sich abgeschlossen und ohne Vorkenntnisse zugänglich. \nDetails auf einen Blick: \n\nBeitrag: 25 € pro Person\nBitte mitbringen: Bequeme Kleidung\, warme Socken oder Hausschuhe\nKomm gerne ein paar Minuten früher\, damit wir gemeinsam entspannt starten können\n\nErlebe diese besondere Form der Entspannung und schenke dir selbst Zeit für dich.Ich freue mich darauf\, dich in der Strömgruppe willkommen zu heißen! \n Jetzt Platz sichern und anmelden  \n 
URL:https://www.praxis-mediale-heilung.de/event/jin-shin-jyutsu-stroemgruppe-im-mai-tiefenentspannung-neue-energie-erleben/
LOCATION:Praxis für Mediale Heilung\, Maria-Terwiel-Str. 37\, Karlsruhe\, 76189\, Deutschland
CATEGORIES:Strömgruppe,Veranstaltungen
ATTACH;FMTTYPE=image/jpeg:https://www.praxis-mediale-heilung.de/wp-content/uploads/2026/04/Heilende-Haende-bei-Jin-Shin-Jyutsu.jpeg
END:VEVENT
END:VCALENDAR